BEGIN:VCALENDAR
VERSION:2.0
PRODID:-//PIONEER alliance - ECPv6.15.18//NONSGML v1.0//EN
CALSCALE:GREGORIAN
METHOD:PUBLISH
X-WR-CALNAME:PIONEER alliance
X-ORIGINAL-URL:https://pioneer-alliance.eu
X-WR-CALDESC:Events for PIONEER alliance
REFRESH-INTERVAL;VALUE=DURATION:PT1H
X-Robots-Tag:noindex
X-PUBLISHED-TTL:PT1H
BEGIN:VTIMEZONE
TZID:Europe/Bratislava
BEGIN:DAYLIGHT
TZOFFSETFROM:+0100
TZOFFSETTO:+0200
TZNAME:CEST
DTSTART:20230326T010000
END:DAYLIGHT
BEGIN:STANDARD
TZOFFSETFROM:+0200
TZOFFSETTO:+0100
TZNAME:CET
DTSTART:20231029T010000
END:STANDARD
BEGIN:DAYLIGHT
TZOFFSETFROM:+0100
TZOFFSETTO:+0200
TZNAME:CEST
DTSTART:20240331T010000
END:DAYLIGHT
BEGIN:STANDARD
TZOFFSETFROM:+0200
TZOFFSETTO:+0100
TZNAME:CET
DTSTART:20241027T010000
END:STANDARD
BEGIN:DAYLIGHT
TZOFFSETFROM:+0100
TZOFFSETTO:+0200
TZNAME:CEST
DTSTART:20250330T010000
END:DAYLIGHT
BEGIN:STANDARD
TZOFFSETFROM:+0200
TZOFFSETTO:+0100
TZNAME:CET
DTSTART:20251026T010000
END:STANDARD
END:VTIMEZONE
BEGIN:VEVENT
DTSTART;TZID=Europe/Bratislava:20240627T123000
DTEND;TZID=Europe/Bratislava:20240627T140000
DTSTAMP:20260422T140820
CREATED:20240617T060233Z
LAST-MODIFIED:20240617T060312Z
UID:999957241-1719491400-1719496800@pioneer-alliance.eu
SUMMARY:InCITIES  - Scientific Café - 27.06.2024 -  Nature in the City
DESCRIPTION:For more information click here InCITIES Nature in the city – Scientific Cafe – 27.06.2024
URL:https://pioneer-alliance.eu/event/incities-scientific-cafe-27-06-2024-nature-in-the-city/
END:VEVENT
END:VCALENDAR