BEGIN:VCALENDAR
VERSION:2.0
PRODID:-//PIONEER alliance - ECPv6.15.18//NONSGML v1.0//EN
CALSCALE:GREGORIAN
METHOD:PUBLISH
X-ORIGINAL-URL:https://pioneer-alliance.eu
X-WR-CALDESC:Events for PIONEER alliance
REFRESH-INTERVAL;VALUE=DURATION:PT1H
X-Robots-Tag:noindex
X-PUBLISHED-TTL:PT1H
BEGIN:VTIMEZONE
TZID:Europe/Bratislava
BEGIN:DAYLIGHT
TZOFFSETFROM:+0100
TZOFFSETTO:+0200
TZNAME:CEST
DTSTART:20220327T010000
END:DAYLIGHT
BEGIN:STANDARD
TZOFFSETFROM:+0200
TZOFFSETTO:+0100
TZNAME:CET
DTSTART:20221030T010000
END:STANDARD
BEGIN:DAYLIGHT
TZOFFSETFROM:+0100
TZOFFSETTO:+0200
TZNAME:CEST
DTSTART:20230326T010000
END:DAYLIGHT
BEGIN:STANDARD
TZOFFSETFROM:+0200
TZOFFSETTO:+0100
TZNAME:CET
DTSTART:20231029T010000
END:STANDARD
BEGIN:DAYLIGHT
TZOFFSETFROM:+0100
TZOFFSETTO:+0200
TZNAME:CEST
DTSTART:20240331T010000
END:DAYLIGHT
BEGIN:STANDARD
TZOFFSETFROM:+0200
TZOFFSETTO:+0100
TZNAME:CET
DTSTART:20241027T010000
END:STANDARD
END:VTIMEZONE
BEGIN:VEVENT
DTSTART;VALUE=DATE:20230904
DTEND;VALUE=DATE:20230909
DTSTAMP:20260423T094031
CREATED:20230816T083006Z
LAST-MODIFIED:20230816T083006Z
UID:999956987-1693785600-1694217599@pioneer-alliance.eu
SUMMARY:Summer School “Cross-cultural communication and diversity”
DESCRIPTION:The Global Engagement Office of the Bern University of Applied Sciences warmly invites your students to take part in our Summer School “Cross-cultural communication and diversity”\, taking place between 4 and 8 September 2023 in Bern.\nThe Summer School builds up the students’ cross-cultural competencies in culturally sensitive communication and cultural self-awareness. \nFactsheet: www.bfh.ch/en/studies/add…\nWe ask you to kindly pre-register by email: geo@bfh.ch
URL:https://pioneer-alliance.eu/event/summer-school-cross-cultural-communication-and-diversity/
END:VEVENT
END:VCALENDAR