BEGIN:VCALENDAR
VERSION:2.0
PRODID:-//PIONEER alliance - ECPv6.15.18//NONSGML v1.0//EN
CALSCALE:GREGORIAN
METHOD:PUBLISH
X-WR-CALNAME:PIONEER alliance
X-ORIGINAL-URL:https://pioneer-alliance.eu
X-WR-CALDESC:Events for PIONEER alliance
REFRESH-INTERVAL;VALUE=DURATION:PT1H
X-Robots-Tag:noindex
X-PUBLISHED-TTL:PT1H
BEGIN:VTIMEZONE
TZID:Europe/Bratislava
BEGIN:DAYLIGHT
TZOFFSETFROM:+0100
TZOFFSETTO:+0200
TZNAME:CEST
DTSTART:20240331T010000
END:DAYLIGHT
BEGIN:STANDARD
TZOFFSETFROM:+0200
TZOFFSETTO:+0100
TZNAME:CET
DTSTART:20241027T010000
END:STANDARD
BEGIN:DAYLIGHT
TZOFFSETFROM:+0100
TZOFFSETTO:+0200
TZNAME:CEST
DTSTART:20250330T010000
END:DAYLIGHT
BEGIN:STANDARD
TZOFFSETFROM:+0200
TZOFFSETTO:+0100
TZNAME:CET
DTSTART:20251026T010000
END:STANDARD
BEGIN:DAYLIGHT
TZOFFSETFROM:+0100
TZOFFSETTO:+0200
TZNAME:CEST
DTSTART:20260329T010000
END:DAYLIGHT
BEGIN:STANDARD
TZOFFSETFROM:+0200
TZOFFSETTO:+0100
TZNAME:CET
DTSTART:20261025T010000
END:STANDARD
END:VTIMEZONE
BEGIN:VEVENT
DTSTART;VALUE=DATE:20250515
DTEND;VALUE=DATE:20250517
DTSTAMP:20260421T202000
CREATED:20241212T094057Z
LAST-MODIFIED:20241212T094057Z
UID:999957403-1747267200-1747439999@pioneer-alliance.eu
SUMMARY:Sustainable  Global  Competence in  Swiss Higher  Education Save the date: 15 & 16 May\, 2025  in Lugano
DESCRIPTION:Save the date: 15 & 16 May\, 2025 in Lugano \nMarking the end of our Movetia-funded project Developing a Sustainable Global Competence Certificate in Switzerland\, the Swiss Global Competence Lab is excited to host an international\nsymposium entitled Sustainable Global Competence in Swiss Higher Education on 15 & 16 May\, 2025\, at SUPSI campus in Lugano. The symposium will bring together various stakeholders within higher education to explore the following topics related to global competence development: the role of theoretical concepts\, multilingualism\, and international exposure. We invite you to join us for an engaging event filled with plenary sessions\, roundtable and panel discussions. Your participation will be invaluable as we work together to shape the future of global competence in higher education \nannouncement_-_sustainable_global_competence_in_swiss_higher_education
URL:https://pioneer-alliance.eu/event/sustainable-global-competence-in-swiss-higher-education-save-the-date-15-16-may-2025-in-lugano/
END:VEVENT
END:VCALENDAR