BEGIN:VCALENDAR
VERSION:2.0
PRODID:-//PIONEER alliance - ECPv6.15.18//NONSGML v1.0//EN
CALSCALE:GREGORIAN
METHOD:PUBLISH
X-WR-CALNAME:PIONEER alliance
X-ORIGINAL-URL:https://pioneer-alliance.eu
X-WR-CALDESC:Events for PIONEER alliance
REFRESH-INTERVAL;VALUE=DURATION:PT1H
X-Robots-Tag:noindex
X-PUBLISHED-TTL:PT1H
BEGIN:VTIMEZONE
TZID:Europe/Bratislava
BEGIN:DAYLIGHT
TZOFFSETFROM:+0100
TZOFFSETTO:+0200
TZNAME:CEST
DTSTART:20230326T010000
END:DAYLIGHT
BEGIN:STANDARD
TZOFFSETFROM:+0200
TZOFFSETTO:+0100
TZNAME:CET
DTSTART:20231029T010000
END:STANDARD
BEGIN:DAYLIGHT
TZOFFSETFROM:+0100
TZOFFSETTO:+0200
TZNAME:CEST
DTSTART:20240331T010000
END:DAYLIGHT
BEGIN:STANDARD
TZOFFSETFROM:+0200
TZOFFSETTO:+0100
TZNAME:CET
DTSTART:20241027T010000
END:STANDARD
BEGIN:DAYLIGHT
TZOFFSETFROM:+0100
TZOFFSETTO:+0200
TZNAME:CEST
DTSTART:20250330T010000
END:DAYLIGHT
BEGIN:STANDARD
TZOFFSETFROM:+0200
TZOFFSETTO:+0100
TZNAME:CET
DTSTART:20251026T010000
END:STANDARD
END:VTIMEZONE
BEGIN:VEVENT
DTSTART;VALUE=DATE:20241024
DTEND;VALUE=DATE:20241025
DTSTAMP:20260422T085801
CREATED:20241009T150431Z
LAST-MODIFIED:20241009T150647Z
UID:999957361-1729728000-1729814399@pioneer-alliance.eu
SUMMARY:DEADLINE for European Hackathon 2025: Shaping the Future of Sustainable Logistics
DESCRIPTION:European Hackathon 2025: Shaping the Future of Sustainable Logistics \nTo participate\, students should register with their university’s international relations department by October 24\, 2024. \n \nmore information on our website 
URL:https://pioneer-alliance.eu/event/deadline-for-european-hackathon-2025-shaping-the-future-of-sustainable-logistics/
END:VEVENT
END:VCALENDAR