BEGIN:VCALENDAR
VERSION:2.0
PRODID:-//PIONEER alliance - ECPv6.15.18//NONSGML v1.0//EN
CALSCALE:GREGORIAN
METHOD:PUBLISH
X-WR-CALNAME:PIONEER alliance
X-ORIGINAL-URL:https://pioneer-alliance.eu
X-WR-CALDESC:Events for PIONEER alliance
REFRESH-INTERVAL;VALUE=DURATION:PT1H
X-Robots-Tag:noindex
X-PUBLISHED-TTL:PT1H
BEGIN:VTIMEZONE
TZID:Europe/Bratislava
BEGIN:DAYLIGHT
TZOFFSETFROM:+0100
TZOFFSETTO:+0200
TZNAME:CEST
DTSTART:20220327T010000
END:DAYLIGHT
BEGIN:STANDARD
TZOFFSETFROM:+0200
TZOFFSETTO:+0100
TZNAME:CET
DTSTART:20221030T010000
END:STANDARD
BEGIN:DAYLIGHT
TZOFFSETFROM:+0100
TZOFFSETTO:+0200
TZNAME:CEST
DTSTART:20230326T010000
END:DAYLIGHT
BEGIN:STANDARD
TZOFFSETFROM:+0200
TZOFFSETTO:+0100
TZNAME:CET
DTSTART:20231029T010000
END:STANDARD
BEGIN:DAYLIGHT
TZOFFSETFROM:+0100
TZOFFSETTO:+0200
TZNAME:CEST
DTSTART:20240331T010000
END:DAYLIGHT
BEGIN:STANDARD
TZOFFSETFROM:+0200
TZOFFSETTO:+0100
TZNAME:CET
DTSTART:20241027T010000
END:STANDARD
END:VTIMEZONE
BEGIN:VEVENT
DTSTART;VALUE=DATE:20230529
DTEND;VALUE=DATE:20230601
DTSTAMP:20260423T184144
CREATED:20221221T080759Z
LAST-MODIFIED:20221221T080759Z
UID:999956711-1685318400-1685577599@pioneer-alliance.eu
SUMMARY:TRANSCOM 2023  15th International Scientific Conference on Sustainable\, Modern and Safe Transport
DESCRIPTION:  \nTRANSCOM 2023\, the 15th International Scientific Conference on Sustainable\, Modern\, and Safe Transport\, aims to establish and expand international contacts and cooperation. The main purpose of the conference is to provide young scientists with an encouraging and stimulating environment in which they present the results of their research to the scientific community. \nWe invite you to this International Conference – Transcom 2023\, which is mainly focused on young researchers.\nAll details: https://www.transcom-conference.com \n 
URL:https://pioneer-alliance.eu/event/transcom-2023-15th-international-scientific-conference-on-sustainable-modern-and-safe-transport/
END:VEVENT
END:VCALENDAR