BEGIN:VCALENDAR
VERSION:2.0
PRODID:-//PIONEER alliance - ECPv6.15.18//NONSGML v1.0//EN
CALSCALE:GREGORIAN
METHOD:PUBLISH
X-WR-CALNAME:PIONEER alliance
X-ORIGINAL-URL:https://pioneer-alliance.eu
X-WR-CALDESC:Events for PIONEER alliance
REFRESH-INTERVAL;VALUE=DURATION:PT1H
X-Robots-Tag:noindex
X-PUBLISHED-TTL:PT1H
BEGIN:VTIMEZONE
TZID:Europe/Bratislava
BEGIN:DAYLIGHT
TZOFFSETFROM:+0100
TZOFFSETTO:+0200
TZNAME:CEST
DTSTART:20210328T010000
END:DAYLIGHT
BEGIN:STANDARD
TZOFFSETFROM:+0200
TZOFFSETTO:+0100
TZNAME:CET
DTSTART:20211031T010000
END:STANDARD
BEGIN:DAYLIGHT
TZOFFSETFROM:+0100
TZOFFSETTO:+0200
TZNAME:CEST
DTSTART:20220327T010000
END:DAYLIGHT
BEGIN:STANDARD
TZOFFSETFROM:+0200
TZOFFSETTO:+0100
TZNAME:CET
DTSTART:20221030T010000
END:STANDARD
BEGIN:DAYLIGHT
TZOFFSETFROM:+0100
TZOFFSETTO:+0200
TZNAME:CEST
DTSTART:20230326T010000
END:DAYLIGHT
BEGIN:STANDARD
TZOFFSETFROM:+0200
TZOFFSETTO:+0100
TZNAME:CET
DTSTART:20231029T010000
END:STANDARD
END:VTIMEZONE
BEGIN:VEVENT
DTSTART;VALUE=DATE:20220518
DTEND;VALUE=DATE:20220520
DTSTAMP:20260426T030357
CREATED:20220407T120929Z
LAST-MODIFIED:20220407T120930Z
UID:999956533-1652832000-1653004799@pioneer-alliance.eu
SUMMARY:Crisis situations solution in specific environment
DESCRIPTION:Faculty of Security Engineering\, University of Žilina invites you to the 25th international scientific conference \n\nCrisis situations solution in specific environment\, which will be held in Žilina\, from 18th to 19th of May 2022 \n  \nmore information here: https://bit.ly/3DMowgJ \n  \nInvitation: https://bit.ly/3LO4pRQ \n 
URL:https://pioneer-alliance.eu/event/crisis-situations-solution-in-specific-environment/
ATTACH;FMTTYPE=image/jpeg:https://pioneer-alliance.eu/wp-content/uploads/2022/01/uniza_new2.jpg
END:VEVENT
END:VCALENDAR