BEGIN:VCALENDAR
VERSION:2.0
PRODID:-//PIONEER alliance - ECPv6.15.18//NONSGML v1.0//EN
CALSCALE:GREGORIAN
METHOD:PUBLISH
X-WR-CALNAME:PIONEER alliance
X-ORIGINAL-URL:https://pioneer-alliance.eu
X-WR-CALDESC:Events for PIONEER alliance
REFRESH-INTERVAL;VALUE=DURATION:PT1H
X-Robots-Tag:noindex
X-PUBLISHED-TTL:PT1H
BEGIN:VTIMEZONE
TZID:Europe/Bratislava
BEGIN:DAYLIGHT
TZOFFSETFROM:+0100
TZOFFSETTO:+0200
TZNAME:CEST
DTSTART:20210328T010000
END:DAYLIGHT
BEGIN:STANDARD
TZOFFSETFROM:+0200
TZOFFSETTO:+0100
TZNAME:CET
DTSTART:20211031T010000
END:STANDARD
BEGIN:DAYLIGHT
TZOFFSETFROM:+0100
TZOFFSETTO:+0200
TZNAME:CEST
DTSTART:20220327T010000
END:DAYLIGHT
BEGIN:STANDARD
TZOFFSETFROM:+0200
TZOFFSETTO:+0100
TZNAME:CET
DTSTART:20221030T010000
END:STANDARD
BEGIN:DAYLIGHT
TZOFFSETFROM:+0100
TZOFFSETTO:+0200
TZNAME:CEST
DTSTART:20230326T010000
END:DAYLIGHT
BEGIN:STANDARD
TZOFFSETFROM:+0200
TZOFFSETTO:+0100
TZNAME:CET
DTSTART:20231029T010000
END:STANDARD
END:VTIMEZONE
BEGIN:VEVENT
DTSTART;TZID=Europe/Bratislava:20220429T153000
DTEND;TZID=Europe/Bratislava:20220501T190000
DTSTAMP:20260426T030306
CREATED:20220406T082747Z
LAST-MODIFIED:20220406T082747Z
UID:999956522-1651246200-1651431600@pioneer-alliance.eu
SUMMARY:Citython 2022 Žilina - Hybrid Event
DESCRIPTION:This hybrid (in person and online) Citython edition will be held in the city of Žilina\, Slovakia\, and is focused on smart mobility\, in the context of climate resilient cities\, public engagement and extreme weather and humanitarian emergencies. The goal of this Citython is that young professionals search for innovative and creative solutions that can be applied in the city of Žilina to foster innovation \nMore about:  https://bit.ly/3KhhBOK \nRegistration open until 24 April – 23:00 CET here: https://bit.ly/37kGZoc \nThere is no ️participation fee. Citython 2022 Žilina is 100% free for all participants. \nJust apply and get your ticket! \nBy registering you accept the Citython 2022 Žilina Terms and Conditions.
URL:https://pioneer-alliance.eu/event/citython-2022-zilina-hybrid-event/
ATTACH;FMTTYPE=image/jpeg:https://pioneer-alliance.eu/wp-content/uploads/2022/04/citython.jpg
END:VEVENT
END:VCALENDAR